BEGIN:VCALENDAR
VERSION:2.0
PRODID:-//Veranstaltungsagentur MOTION in Bayreuth - ECPv6.15.20//NONSGML v1.0//EN
CALSCALE:GREGORIAN
METHOD:PUBLISH
X-WR-CALNAME:Veranstaltungsagentur MOTION in Bayreuth
X-ORIGINAL-URL:https://www.motion-kommunikation.de
X-WR-CALDESC:Veranstaltungen für Veranstaltungsagentur MOTION in Bayreuth
REFRESH-INTERVAL;VALUE=DURATION:PT1H
X-Robots-Tag:noindex
X-PUBLISHED-TTL:PT1H
BEGIN:VTIMEZONE
TZID:Europe/Berlin
BEGIN:DAYLIGHT
TZOFFSETFROM:+0100
TZOFFSETTO:+0200
TZNAME:CEST
DTSTART:20250330T010000
END:DAYLIGHT
BEGIN:STANDARD
TZOFFSETFROM:+0200
TZOFFSETTO:+0100
TZNAME:CET
DTSTART:20251026T010000
END:STANDARD
BEGIN:DAYLIGHT
TZOFFSETFROM:+0100
TZOFFSETTO:+0200
TZNAME:CEST
DTSTART:20260329T010000
END:DAYLIGHT
BEGIN:STANDARD
TZOFFSETFROM:+0200
TZOFFSETTO:+0100
TZNAME:CET
DTSTART:20261025T010000
END:STANDARD
BEGIN:DAYLIGHT
TZOFFSETFROM:+0100
TZOFFSETTO:+0200
TZNAME:CEST
DTSTART:20270328T010000
END:DAYLIGHT
BEGIN:STANDARD
TZOFFSETFROM:+0200
TZOFFSETTO:+0100
TZNAME:CET
DTSTART:20271031T010000
END:STANDARD
END:VTIMEZONE
BEGIN:VEVENT
DTSTART;TZID=Europe/Berlin:20260423T200000
DTEND;TZID=Europe/Berlin:20260423T200000
DTSTAMP:20260423T062400
CREATED:20250206T124700Z
LAST-MODIFIED:20250206T124700Z
UID:16774-1776974400-1776974400@www.motion-kommunikation.de
SUMMARY:Jochen Malmsheimer: Statt wesentlich ...
DESCRIPTION:Der Titel „Statt wesentlich die Welt bewegt\, hab‘ ich wohl nur das Meer gepflügt …“ des neuen Programms von Jochen Malmsheimer geht auf Simon Bolivar zurück\, der ja\, wenn man dem Internet glauben möchte\, und das tun ja inzwischen viel zu viele\, lange mit Jean Paul Sartre zusammen lebte. Vielleicht war es aber auch Simone Signoret\, die mit Sartre zusammenlebte. Oder Sartre lebte allein\, dafür ständig im Boudoire. Vielleicht lebte Sartre aber auch mit niemanden zusammen\, außer vielleicht mit einem Beaujolais und einigen Jetons. Gitanes. Wer vermag das zu sagen? Und\, vor allem\, warum? In diesem abendfüllenden Programm geht es\, neben allerlei Absonderlichkeiten\, um große und mittelgroße Fragen der Welt. Doch: Was wirklich geschieht\, weiß allein der Wind! \nJochen Malmsheimer\, geboren 1961 in Essen\, ist ein vielfach preisgekrönter Kabarettist (u.a. Deutscher Kleinkunstpreis\, Deutscher Kabarettpreis). In zahlreichen Bühnenprogrammen hat er eine ganz eigene Kunstform geschaffen: das epische Kabarett. Einem größeren Publikum wurde er vor allem durch seine regelmäßigen Auftritte bei „Neues aus der Anstalt“ (ZDF) bekannt. Sein künstlerisches Werk ist in „Gedrängte Wochenübersicht – Ein Vademecum der guten Laune“ nachzulesen.
URL:https://www.motion-kommunikation.de/event/jochen-malmsheimer-statt-wesentlich/
LOCATION:Das Zentrum\, Äußere Badstraße 7a\, Bayreuth\, 95448\, Deutschland
CATEGORIES:Bayreuther Kulturfrühling 2026,Comedy & Kabarett
ATTACH;FMTTYPE=image/jpeg:https://www.motion-kommunikation.de/wp-content/uploads/2025/02/2023_image0_Foto-Jochen_Fotograf-Malmsheimer_16-9-Kopie.jpg
END:VEVENT
END:VCALENDAR