BEGIN:VCALENDAR
VERSION:2.0
PRODID:-//Veranstaltungsagentur MOTION in Bayreuth - ECPv6.15.20//NONSGML v1.0//EN
CALSCALE:GREGORIAN
METHOD:PUBLISH
X-ORIGINAL-URL:https://www.motion-kommunikation.de
X-WR-CALDESC:Veranstaltungen für Veranstaltungsagentur MOTION in Bayreuth
REFRESH-INTERVAL;VALUE=DURATION:PT1H
X-Robots-Tag:noindex
X-PUBLISHED-TTL:PT1H
BEGIN:VTIMEZONE
TZID:Europe/Berlin
BEGIN:DAYLIGHT
TZOFFSETFROM:+0100
TZOFFSETTO:+0200
TZNAME:CEST
DTSTART:20250330T010000
END:DAYLIGHT
BEGIN:STANDARD
TZOFFSETFROM:+0200
TZOFFSETTO:+0100
TZNAME:CET
DTSTART:20251026T010000
END:STANDARD
BEGIN:DAYLIGHT
TZOFFSETFROM:+0100
TZOFFSETTO:+0200
TZNAME:CEST
DTSTART:20260329T010000
END:DAYLIGHT
BEGIN:STANDARD
TZOFFSETFROM:+0200
TZOFFSETTO:+0100
TZNAME:CET
DTSTART:20261025T010000
END:STANDARD
BEGIN:DAYLIGHT
TZOFFSETFROM:+0100
TZOFFSETTO:+0200
TZNAME:CEST
DTSTART:20270328T010000
END:DAYLIGHT
BEGIN:STANDARD
TZOFFSETFROM:+0200
TZOFFSETTO:+0100
TZNAME:CET
DTSTART:20271031T010000
END:STANDARD
END:VTIMEZONE
BEGIN:VEVENT
DTSTART;TZID=Europe/Berlin:20260503T200000
DTEND;TZID=Europe/Berlin:20260503T200000
DTSTAMP:20260422T113755
CREATED:20250814T112623Z
LAST-MODIFIED:20260309T082152Z
UID:17708-1777838400-1777838400@www.motion-kommunikation.de
SUMMARY:Fiddler's Green: Acoustic Pub Crawl 2026
DESCRIPTION:Seit 35 Jahren bringen Fiddler’s Green mit ihrem „Irish Speedfolk“ die Säle zum Kochen. Zum Jubiläum überraschen die Folkrocker ihre Fans mit einer ganz besonderen Tour: dem Acoustic Pub Crawl 2026. Von April bis Mai tourt die Band unplugged durch Deutschland und zeigt ihre Songs in einem neuen\, akustischen Gewand – nah\, direkt und voller Energie. Statt wuchtiger Rockproduktion setzen Fiddler’s Green auf Spontaneität\, Humor und charmante Clubatmosphäre. Neben den großen Klassikern der Bandgeschichte erwarten das Publikum auch neu arrangierte Raritäten – und jede Menge Überraschungen: Denn neben Geige\, Gitarre und Mandoline kommen auch ungewöhnliche Instrumente zum Einsatz\, von der Maultrommel über die Sitar bis hin zum Glockenspiel. Der Acoustic Pub Crawl 2026 ist damit mehr als ein Jubiläum – es ist eine Einladung\, 35 Jahre Fiddler’s Green gemeinsam zu feiern: handgemacht\, lebendig und unberechenbar wie eh und je. \nSupport: Redwood
URL:https://www.motion-kommunikation.de/event/fiddlers-green-acoustic-pub-crawl-2026/
LOCATION:Das Zentrum\, Äußere Badstraße 7a\, Bayreuth\, 95448\, Deutschland
CATEGORIES:Konzerte,Rock & Pop
ATTACH;FMTTYPE=image/jpeg:https://www.motion-kommunikation.de/wp-content/uploads/2025/08/Fiddlers-Green-APC-2026-Photo-Holger-Fichtner_quer.jpg
END:VEVENT
END:VCALENDAR